BEGIN:VCALENDAR
VERSION:2.0
PRODID:icalendar-ruby
CALSCALE:GREGORIAN
BEGIN:VEVENT
DTSTAMP:20210120T054044Z
UID:413a5129-a221-4769-b779-237fed4246e8
DTSTART:20201215T110000Z
DTEND:20210208T110000Z
DESCRIPTION:
LOCATION:
SUMMARY:School Holidays
URL:
END:VEVENT
END:VCALENDAR
